BEGIN:VCALENDAR
VERSION:2.0
PRODID:-//Plone.org//NONSGML plone.app.event//EN
X-WR-TIMEZONE:Europe/Madrid
BEGIN:VEVENT
SUMMARY:Test event
DTSTART;TZID=Europe/Madrid:20090319T141000
DTEND;TZID=Europe/Madrid:20090329T141000
DTSTAMP:20260424T181159Z
UID:46552b72701cdabeffe4cd7f61898b01@peter7.upc.edu:11901
CREATED:20090319T130900Z
DESCRIPTION:briefing
LAST-MODIFIED:20090319T131000Z
LOCATION:Test location
URL:https://gaa.upc.edu/en/events/test-event
END:VEVENT
BEGIN:VTIMEZONE
TZID:Europe/Madrid
X-LIC-LOCATION:Europe/Madrid
BEGIN:STANDARD
DTSTART:20081026T020000
TZNAME:CET
TZOFFSETFROM:+0200
TZOFFSETTO:+0100
END:STANDARD
BEGIN:DAYLIGHT
DTSTART:20090329T030000
TZNAME:CEST
TZOFFSETFROM:+0100
TZOFFSETTO:+0200
END:DAYLIGHT
END:VTIMEZONE
END:VCALENDAR
